BEGIN:VCALENDAR
VERSION:2.0
PRODID:-//TX Cannabis Collective - ECPv6.15.16//NONSGML v1.0//EN
CALSCALE:GREGORIAN
METHOD:PUBLISH
X-WR-CALNAME:TX Cannabis Collective
X-ORIGINAL-URL:https://txcannaco.com
X-WR-CALDESC:Events for TX Cannabis Collective
REFRESH-INTERVAL;VALUE=DURATION:PT1H
X-Robots-Tag:noindex
X-PUBLISHED-TTL:PT1H
BEGIN:VTIMEZONE
TZID:America/Chicago
BEGIN:DAYLIGHT
TZOFFSETFROM:-0600
TZOFFSETTO:-0500
TZNAME:CDT
DTSTART:20180311T080000
END:DAYLIGHT
BEGIN:STANDARD
TZOFFSETFROM:-0500
TZOFFSETTO:-0600
TZNAME:CST
DTSTART:20181104T070000
END:STANDARD
BEGIN:DAYLIGHT
TZOFFSETFROM:-0600
TZOFFSETTO:-0500
TZNAME:CDT
DTSTART:20190310T080000
END:DAYLIGHT
BEGIN:STANDARD
TZOFFSETFROM:-0500
TZOFFSETTO:-0600
TZNAME:CST
DTSTART:20191103T070000
END:STANDARD
BEGIN:DAYLIGHT
TZOFFSETFROM:-0600
TZOFFSETTO:-0500
TZNAME:CDT
DTSTART:20200308T080000
END:DAYLIGHT
BEGIN:STANDARD
TZOFFSETFROM:-0500
TZOFFSETTO:-0600
TZNAME:CST
DTSTART:20201101T070000
END:STANDARD
BEGIN:DAYLIGHT
TZOFFSETFROM:-0600
TZOFFSETTO:-0500
TZNAME:CDT
DTSTART:20210314T080000
END:DAYLIGHT
BEGIN:STANDARD
TZOFFSETFROM:-0500
TZOFFSETTO:-0600
TZNAME:CST
DTSTART:20211107T070000
END:STANDARD
END:VTIMEZONE
BEGIN:VEVENT
DTSTART;TZID=America/Chicago:20200404T110000
DTEND;TZID=America/Chicago:20200404T210000
DTSTAMP:20260423T084434
CREATED:20200229T205503Z
LAST-MODIFIED:20200229T205503Z
UID:4126-1585998000-1586034000@txcannaco.com
SUMMARY:TX NORML Puff ‘n Putt Veteran Benefit
DESCRIPTION:Saturday\, April 4th\, 2020 \nWillie Nelson’s Golf Course – 807 Paisley Dr\, Spicewood\, Texas 78669 \n#PuffnPutt2020 \nTexas NORML is proud to announce the 7th Annual Puff ‘n Putt Veteran Benefit on Saturday\, April 4th\, 2020. Come and enjoy a day of golf\, live music\, disc golf\, vendors\, food and a great day at the legendary Willie Nelson’s Cut-N-Putt Golf Course located in Spicewood\, Texas. This family-friendly event is a benefit to raise funds for Texas NORML’s mission to gain safe access to cannabis for adults with a focus on supporting Texas Veterans and their fight in the war to re-­legalize cannabis. To be a sponsor for our event\, check out our Veteran Benefit Sponsor Packet. Check out this video to learn more about what to expect out of  Puff N’ Putts! \nGeneral Admission: $25 for adults | $5 for kids 5-17 yrs old | 5 and under is free \nGeneral admission gains you entry to our veteran benefit which includes live music\, vendors\, food\, silent auction and disc golf. For disc golf\, we will have prizes for Closest to the Pin and Ring of Fire. Disc golf comes with general admission but is first come first served as space is limited. Purchase your tickets today! \n\nGolf: $80 per golfer  \nIn addition to the round of am or pm golf and festival admission\, your golf player registration includes a meal voucher\, a gift bag filled with goodies from Texas NORML and our supporters\, and custom prizes for the winning team members of each round. Learn more about the golf details here. We will have prizes for the winning morning and afternoon golf teams as well as Longest Drive and Closest to the Pin. Secure your team’s spots now! \n\nLimited Run Benefit Shirt: $25 \nPre-order your Puff ‘n Putt shirt now! Ensure that you can secure your size by ordering your shirt now. These shirts will be available for pick up at the event only. You will pick up your shirt when you check-in. Make sure to add your shirt to your order! \n\nVendor Booth: $70 \nIncludes a 12ft by 12ft space and 2 general admission tickets. If more tickets are needed\, you can purchase more general admission tickets in advance. Vendors agree to donate an item to the silent auction. Vendors may include swag in our gift bags if desired (will be for 100 bags). Vendors will be responsible for providing their own tent/pop up\, power source\, tables and chairs. Spaces are limited so purchase your vendor booth now!  \n\nSponsors: Levels range from $100 | $250 | $500 | $1\,000 | $2\,000 | $3\,000 \nWe offer multiple sponsorship levels for those interested in helping raise funds for Texas NORML’s mission to gain safe access to cannabis for adults with a focus on supporting Texas Veterans and their fight to re-legalize cannabis. With great sponsors and low ticket prices\, we can increase our attendance and your exposure. View our sponsorship package to learn more. Purchase your sponsor level now! \n\nVolunteer for this event!  \nFollow the Facebook Event page for live updates. \nParking: Parking will be available in the course lot and the front field. Parking attendants will assist. Any overflow parking can be directed to the Briarcliff Community Center. \nAccommodations: In addition to many AirBnB and Vbro properties in the Briarcliff / Spicewood / Southwest Austin area\, there are a wide variety of hotel options. Here are just a few in the area: \n\nHoliday Inn Express & Suites Austin SW – Sunset Valley\nHampton Inn Austin/Oak Hill\nLakeway Resort and Spa\nSonesta Bee Cave Austin Hotel\nOmni Barton Creek Resort & Spa\n\nReminders:  \n\nDoors open at 11 am\nFamily Friendly!\nBYOB and chair\nDogs are welcome but must be kept under your control\, leashed and be cleaned up after\nRain or Shine event\nDisc Golf is first come first serve\nAll vendors will accept cash and some will take a card. The closest ATM will be at the Paleface Grocery on 2322 and 71\n\n\nPlease note that all sales are final and there are no refunds. This event will happen Rain or Shine. Texas NORML reserves the right to accept or decline any sponsor\, vendor\, attendee or volunteer. Dog owners must be attentive and responsible with their dogs. Dogs must stay on a leash at all time and the owner must clean up after the dog. One warning will be given regarding the handling of the owner’s dog before being asked to leave. In no event shall Texas NORML or the Board be liable for any injury\, lost property or profits\, severe weather\, or any other incidents. Texas NORML does not endorse or guarantee any products sold\, services rendered\, or vendors participating at our event.
URL:https://txcannaco.com/event/tx-norml-puff-n-putt-veteran-benefit/
LOCATION:Willie Nelson’s Cut-N-Putt Golf Course\, 807 Paisley Dr\, Spicewood\, Texas\, 78669
ATTACH;FMTTYPE=image/jpeg:https://txcannaco.com/wp-content/uploads/2020/02/85088214_473615849999089_6514575827290554368_n-e1581306391781.jpg
END:VEVENT
BEGIN:VEVENT
DTSTART;TZID=America/Chicago:20200319T180000
DTEND;TZID=America/Chicago:20200319T200000
DTSTAMP:20260423T084434
CREATED:20200229T212941Z
LAST-MODIFIED:20200229T212941Z
UID:4135-1584640800-1584648000@txcannaco.com
SUMMARY:FIT - Ask the Doctors featuring Dr Ethan Russo and Dr Sue Sisley
DESCRIPTION:Thursday\, March 19th\, 2020\nAustin\, TX. \nThe University of Texas at Austin’s Thompson Conference Center\n2405 Robert Dedman Dr\, Austin\, TX 78712\nIn the Auditorium\, Room 1.110\nClick for map and directions. \n6:00PM – 8:00PM\n\n\n\n\n\n\n\n\nTickets: $50 \n\n\n\n\n\n\n\n\n\n\n\nJoin two preeminent doctors in cannabis research for a discussion about medical cannabis\, their research findings and upcoming research projects.\nJoin Foundation for an Informed Texas in welcoming Dr. Ethan Russo\, MD and Dr. Sue Sisley\, MD to Austin! They will be joining us for this special educational event where we will enjoy a presentation from each of these outstanding doctors on their work and findings. After the presentation\, there will be a significant amount of time for a Q&A session for attendees to participate in. Tickets for this event include light fare\, one drink ticket and a parking permit. Parking information will be emailed out to attendees. \n\n\n\n\n\n\n\n\nSpeakers\n\n\n\n\n\n\n\n\n\n\n\n\n\n\n\n\n\n\nEthan Russo\, MD\nEthan Russo\, MD\, is a board-certified neurologist\, psychopharmacology researcher\, and author. He is the Founder and CEO of CannabisResearch.org \nPreviously\, he was Director of Research and Development of the International Cannabis and Cannabinoids Institute (ICCI) based in Prague\, Czech Republic: https://www.icci.science. Medical Director of PHYTECS (2015-2017)\, a biotechnology company researching and developing innovative approaches targeting the human endocannabinoid system (http://www.phytecs.com)\, and from 2003-2014\, he served as Senior Medical Advisor\, medical monitor and study physician to GW Pharmaceuticals\, United Kingdom for numerous Phase I-III clinical trials of Sativex® for alleviation of cancer pain unresponsive to optimized opioid treatment and initial studies of Epidiolex® for intractable epilepsy (https://www.gwpharm.com). \nHe graduated from the University of Pennsylvania (Psychology)\, and the University of Massachusetts Medical School\, before residencies in Pediatrics in Phoenix\, Arizona and in Child and Adult Neurology at the University of Washington in Seattle. He was a clinical neurologist in Missoula\, Montana for 20 years in a practice with a strong chronic pain component. In 1995\, he pursued a 3-month sabbatical doing ethnobotanical research with the Machiguenga people in Parque Nacional del Manu\, Peru. \nHe has held faculty appointments in Pharmaceutical Sciences at the University of Montana\, in Medicine at the University of Washington\, and as a visiting professor\, Chinese Academy of Sciences\, Harvard University\, and Johns Hopkins University. \nHe is a Past-President of the International Cannabinoid Research Society and is former Chairman of the International Association for Cannabinoid Medicines. He serves on the Scientific Advisory Board for the American Botanical Council. He is author of Handbook of Psychotropic Herbs\, co-editor of Cannabis and Cannabinoids: Pharmacology\, Toxicology and Therapeutic Potential\, and author of The Last Sorcerer: Echoes of the Rainforest. He was founding editor of Journal of Cannabis Therapeutics\, selections of which were published as books: Cannabis Therapeutics in HIV/AIDS\, Women and Cannabis: Medicine\, Science and Sociology\, Cannabis: From Pariah to Prescription\, and Handbook of Cannabis Therapeutics: From Bench to Bedside. He has also published numerous book chapters\, and over fifty articles in neurology\, pain management\, cannabis\, and ethnobotany. His research interests have included correlations of historical uses of cannabis to modern pharmacological mechanisms\, phytopharmaceutical treatment of migraine and chronic pain\, herbal synergy and phytocannabinoid/terpenoid\, serotonergic and vanilloid interactions. \nHe has consulted or lectured on these topics in 39 US states and Canadian provinces and 39 countries. \n\n\n\n\n\n\n\n\n\n\n\n\n\n\nSue Sisley\, MD\nDr. Sue Sisley MD is an Arizona-based physician practicing Internal Medicine & Psychiatry. \nSue is President of Scottsdale Research Institute & Principal Investigator for FDA-approved randomized controlled trials examining safety/efficacy of smoked marijuana flower for treating pain\, post-traumatic stress disorder PTSD\, and opioid substitution. \nSue is striving to put crucial medically-active plants/fungi through the entire FDA drug development process to eventually be available in the market as a safer alternative to synthetic pharmaceuticals. Scottsdale Research Institute in conjunction with their 501(c)(3) arm Field to Healed Foundation is collecting objective data hoping to urge health insurance companies to pay for whole plant botanical medicines similar to conventional pharmaceuticals. \n\n\n\n\n\n\n\n\n\n\n\n\n\n\nModerator for Q&A\nJax Finkel\, Informed Texas\nJax Finkel is Executive Director for Foundation for an Informed Texas. After a decade of involvement in marijuana law reform\, she founded this 501c3 nonprofit which focuses on rural education. In her tenure\, Jax has given hundreds of interviews and participated in many panel discussions and speaking engagements. Foundation for an Informed Texas produced the first medical cannabis ad\, which played in rural areas on Fox News and MSNBC. She created a curriculum\, helped organize and execute regional workshops from 2015 to the present. She believes in freely sharing information and facilitating organizational growth.
URL:https://txcannaco.com/event/fit-ask-the-doctors-featuring-dr-ethan-russo-and-dr-sue-sisley/
LOCATION:The University of Texas at Austin’s Thompson Conference Center\, 2405 Robert Dedman Dr. Auditorium\, Room 1.110\, Austin\, TX\, United States
ATTACH;FMTTYPE=image/jpeg:https://txcannaco.com/wp-content/uploads/2020/02/SXSW-2020-IG-004.jpg
END:VEVENT
BEGIN:VEVENT
DTSTART;TZID=America/Chicago:20190219T080000
DTEND;TZID=America/Chicago:20190219T170000
DTSTAMP:20260423T084434
CREATED:20190219T080720Z
LAST-MODIFIED:20190219T080720Z
UID:583-1550563200-1550595600@txcannaco.com
SUMMARY:Texas Veteran Lobby Day and Educational Exhibit
DESCRIPTION:
URL:https://txcannaco.com/event/texas-veteran-lobby-day-and-educational-exhibit/
LOCATION:Texas State Capitol\, 1100 Congress Ave\, Austin\, Texas\, 78701\, United States
END:VEVENT
END:VCALENDAR